BEGIN:VCALENDAR
VERSION:2.0
PRODID:spatie/icalendar-generator
DESCRIPTION:Events from WVRSOL
X-WR-CALDESC:Events from WVRSOL
REFRESH-INTERVAL;VALUE=DURATION:PT1440M
X-PUBLISHED-TTL:PT1440M
BEGIN:VTIMEZONE
TZID:America/New_York
BEGIN:STANDARD
DTSTART:20211107T020000Z
TZOFFSETFROM:-0400
TZOFFSETTO:-0500
END:STANDARD
BEGIN:DAYLIGHT
DTSTART:20220313T020000Z
TZOFFSETFROM:-0500
TZOFFSETTO:-0400
END:DAYLIGHT
BEGIN:STANDARD
DTSTART:20221106T020000Z
TZOFFSETFROM:-0400
TZOFFSETTO:-0500
END:STANDARD
END:VTIMEZONE
BEGIN:VTIMEZONE
TZID:UTC
BEGIN:STANDARD
DTSTART:20250726T203738Z
TZOFFSETFROM:+0000
TZOFFSETTO:+0000
END:STANDARD
END:VTIMEZONE
BEGIN:VEVENT
UID:303-6
DTSTAMP:20260422T203738Z
SUMMARY:NARSOL Conference
LOCATION:
ORGANIZER;CN=Philip Kaso:MAILTO:philipkaso@gmail.com
DTSTART;TZID=America/New_York;VALUE=DATE:20220617
DTEND;TZID=America/New_York;VALUE=DATE:20220620
X-ALT-DESC;FMTTYPE=TEXT/HTML:NARSOL’s national conferences are exciting a
 nd rewarding for all who attend. There is simply no substitute for the opp
 ortunity to come together in fellowship and unity as we seek to strengthen
  ourselves and each other in our commitment to a society free from public
  shaming\, dehumanizing registries\, discrimination\, and unconstitutional
  laws. &amp;nbsp\; Visit NARSOL's Conference Site&amp;hellip\;
CATEGORIES:General
URL;VALUE=URI:https://wvrsol.org/mc-events/narsol-conference-2/
METHOD:PUBLISH
END:VEVENT
END:VCALENDAR